BEGIN:VCALENDAR
VERSION:2.0
PRODID:DPCALENDAR
CALSCALE:GREGORIAN
BEGIN:VTIMEZONE
TZID:Europe/Vienna
BEGIN:STANDARD
DTSTART:20251026T010000
TZOFFSETFROM:+0200
TZOFFSETTO:+0100
TZNAME:CET
END:STANDARD
BEGIN:DAYLIGHT
DTSTART:20260329T010000
TZOFFSETFROM:+0100
TZOFFSETTO:+0200
TZNAME:CEST
END:DAYLIGHT
BEGIN:STANDARD
DTSTART:20261025T010000
TZOFFSETFROM:+0200
TZOFFSETTO:+0100
TZNAME:CET
END:STANDARD
END:VTIMEZONE
X-WR-TIMEZONE:Europe/Vienna
BEGIN:VEVENT
DTSTART;VALUE=DATE:20260511
DTEND;VALUE=DATE:20260514
UID:2n0069qbn3vaui26cnqhm3h4b3@google.com
SUMMARY:1ab Baumkronenweg
DTSTAMP:20250917T072725Z
DESCRIPTION:
X-ALT-DESC;FMTTYPE=text/html:
LAST-MODIFIED:20250917T072725Z
X-ACCESS:1
X-HITS:0
X-URL:https://www.google.com/calendar/event?eid=Mm4wMDY5cWJuM3ZhdWkyNmNucWhtM2g0YjMgbm1zc3QuZ2VydHJhdWRAbQ
X-COLOR:2e628f
END:VEVENT
END:VCALENDAR