BEGIN:VCALENDAR
VERSION:2.0
PRODID:DPCALENDAR
CALSCALE:GREGORIAN
BEGIN:VTIMEZONE
TZID:Europe/Vienna
BEGIN:STANDARD
DTSTART:20251026T010000
TZOFFSETFROM:+0200
TZOFFSETTO:+0100
TZNAME:CET
END:STANDARD
BEGIN:DAYLIGHT
DTSTART:20260329T010000
TZOFFSETFROM:+0100
TZOFFSETTO:+0200
TZNAME:CEST
END:DAYLIGHT
BEGIN:STANDARD
DTSTART:20261025T010000
TZOFFSETFROM:+0200
TZOFFSETTO:+0100
TZNAME:CET
END:STANDARD
END:VTIMEZONE
X-WR-TIMEZONE:Europe/Vienna
BEGIN:VEVENT
DTSTART;VALUE=DATE:20260520
DTEND;VALUE=DATE:20260521
UID:6e040eqdopjoro8eu74m2cnc3t@google.com
SUMMARY:1ab D-SA
DTSTAMP:20250917T074239Z
DESCRIPTION:
X-ALT-DESC;FMTTYPE=text/html:
LAST-MODIFIED:20250917T074239Z
X-ACCESS:1
X-HITS:0
X-URL:https://www.google.com/calendar/event?eid=NmUwNDBlcWRvcGpvcm84ZXU3NG0yY25jM3Qgbm1zc3QuZ2VydHJhdWRAbQ
X-COLOR:2e628f
END:VEVENT
END:VCALENDAR